BEGIN:VCALENDAR
VERSION:2.0
PRODID:icalendar-ruby
CALSCALE:GREGORIAN
METHOD:PUBLISH
BEGIN:VEVENT
DTSTAMP:20260420T075845Z
UID:540-581726@calvaryorangecity.com
DTSTART:20260311T000000Z
DTEND:20260311T000000Z
CLASS:PUBLIC
CREATED:20260410T132744
DESCRIPTION:
LAST-MODIFIED:20260410T132744
LOCATION:Fireside Room
SUMMARY:Men's Bible Study
URL;VALUE=URI:https://www.calvaryorangecity.com/events/mens-bible-study--54
 0/2026-03-10
ATTACH;FILENAME=MensBibleStudy.jpg;FMTTYPE=image/jpeg:https://dq5pwpg1q8ru0
 .cloudfront.net/2026/02/26/15/59/40/c19bcb3d-254d-4008-83c9-a5a3eb1e9ee1/M
 ensBibleStudy.jpg
END:VEVENT
END:VCALENDAR
