BEGIN:VCALENDAR
VERSION:2.0
PRODID:icalendar-ruby
CALSCALE:GREGORIAN
METHOD:PUBLISH
BEGIN:VEVENT
DTSTAMP:20260423T110921Z
UID:552-602441@calvaryorangecity.com
DTSTART:20260426T220000Z
DTEND:20260426T230000Z
CLASS:PUBLIC
CREATED:20260417T125051
DESCRIPTION:
LAST-MODIFIED:20260417T125051
LOCATION:Immanuel CRC
SUMMARY:Combined GEMS service at Immanuel CRC
URL;VALUE=URI:https://www.calvaryorangecity.com/events/combined-gems-servic
 e-at-immanuel-crc/2026-04-26
ATTACH;FILENAME=GEMS-Logo-Color-300x93.png;FMTTYPE=image/png:https://dq5pwp
 g1q8ru0.cloudfront.net/2026/04/17/17/50/51/025a0081-9459-48cb-8361-301b121
 7e4b9/GEMS-Logo-Color-300x93.png
END:VEVENT
END:VCALENDAR
